BEGIN:VCALENDAR
VERSION:2.0
PRODID:-//Duftbox - ECPv6.10.0//NONSGML v1.0//EN
CALSCALE:GREGORIAN
METHOD:PUBLISH
X-ORIGINAL-URL:https://duftbox.at
X-WR-CALDESC:Veranstaltungen für Duftbox
REFRESH-INTERVAL;VALUE=DURATION:PT1H
X-Robots-Tag:noindex
X-PUBLISHED-TTL:PT1H
BEGIN:VTIMEZONE
TZID:Europe/Berlin
BEGIN:DAYLIGHT
TZOFFSETFROM:+0100
TZOFFSETTO:+0200
TZNAME:CEST
DTSTART:20200329T010000
END:DAYLIGHT
BEGIN:STANDARD
TZOFFSETFROM:+0200
TZOFFSETTO:+0100
TZNAME:CET
DTSTART:20201025T010000
END:STANDARD
END:VTIMEZONE
BEGIN:VEVENT
DTSTART;TZID=Europe/Berlin:20201009T134500
DTEND;TZID=Europe/Berlin:20201009T175000
DTSTAMP:20260422T061251
CREATED:20201006T123018Z
LAST-MODIFIED:20201029T081526Z
UID:1845-1602251100-1602265800@duftbox.at
SUMMARY:Duftbox geöffnet!
DESCRIPTION:Hier gibt es die Möglichkeit\, unsere Produkte zu riechen\, kennenlernen und zu kaufen.
URL:https://duftbox.at/veranstaltung/duftbox-geoeffnet-46/
LOCATION:DUFTBOX\, DUFTBOX\, 3386 Korning 26\, Lower Austria\, 3386\, Österreich
END:VEVENT
BEGIN:VEVENT
DTSTART;TZID=Europe/Berlin:20201010T100000
DTEND;TZID=Europe/Berlin:20201010T180000
DTSTAMP:20260422T061251
CREATED:20201006T122723Z
LAST-MODIFIED:20201006T122723Z
UID:1841-1602324000-1602352800@duftbox.at
SUMMARY:Paradies in the City
DESCRIPTION:Ja\, wir sind für Dich da!\nUnser durchdachtes Sicherheitskonzept ermöglicht Dir auch bei der jetzigen Ampelfarbe orange einen sicheren Besuch unserer Publikumsmesse im Stadtmuseum.\nGerade heuer\, in diesem besonderen Jahr\, braucht es nachhaltige Informationen\, gesundheitsförderliche Dienstleistungen und gute Produkte für den täglichen Bedarf. Diese bieten 50 UnternehmerInnen am 10. und 11. Oktober 2020 im Stadtmuseum St. Pölten in einer entspannten Atmosphäre an.
URL:https://duftbox.at/veranstaltung/paradies-in-the-city-3/
LOCATION:Stadtmuseum Sankt Pölten\, Prandtauerstraße 2\, St. Pölten\, 3100\, Österreich
END:VEVENT
BEGIN:VEVENT
DTSTART;TZID=Europe/Berlin:20201011T100000
DTEND;TZID=Europe/Berlin:20201011T170000
DTSTAMP:20260422T061251
CREATED:20201006T122812Z
LAST-MODIFIED:20201006T122812Z
UID:1843-1602410400-1602435600@duftbox.at
SUMMARY:Paradies in the City
DESCRIPTION:Ja\, wir sind für Dich da!\nUnser durchdachtes Sicherheitskonzept ermöglicht Dir auch bei der jetzigen Ampelfarbe orange einen sicheren Besuch unserer Publikumsmesse im Stadtmuseum.\nGerade heuer\, in diesem besonderen Jahr\, braucht es nachhaltige Informationen\, gesundheitsförderliche Dienstleistungen und gute Produkte für den täglichen Bedarf. Diese bieten 50 UnternehmerInnen am 10. und 11. Oktober 2020 im Stadtmuseum St. Pölten in einer entspannten Atmosphäre an.
URL:https://duftbox.at/veranstaltung/paradies-in-the-city-4/
LOCATION:Stadtmuseum Sankt Pölten\, Prandtauerstraße 2\, St. Pölten\, 3100\, Österreich
END:VEVENT
BEGIN:VEVENT
DTSTART;TZID=Europe/Berlin:20201016T134500
DTEND;TZID=Europe/Berlin:20201016T175000
DTSTAMP:20260422T061251
CREATED:20201006T123044Z
LAST-MODIFIED:20201029T081603Z
UID:1847-1602855900-1602870600@duftbox.at
SUMMARY:Duftbox geöffnet!
DESCRIPTION:Hier gibt es die Möglichkeit\, unsere Produkte zu riechen\, kennenlernen und zu kaufen.
URL:https://duftbox.at/veranstaltung/duftbox-geoeffnet-47/
LOCATION:DUFTBOX\, DUFTBOX\, 3386 Korning 26\, Lower Austria\, 3386\, Österreich
END:VEVENT
BEGIN:VEVENT
DTSTART;TZID=Europe/Berlin:20201023T134500
DTEND;TZID=Europe/Berlin:20201023T175000
DTSTAMP:20260422T061251
CREATED:20201006T123114Z
LAST-MODIFIED:20201029T081632Z
UID:1849-1603460700-1603475400@duftbox.at
SUMMARY:Duftbox geöffnet!
DESCRIPTION:Hier gibt es die Möglichkeit\, unsere Produkte zu riechen\, kennenlernen und zu kaufen.
URL:https://duftbox.at/veranstaltung/duftbox-geoeffnet-48/
LOCATION:DUFTBOX\, DUFTBOX\, 3386 Korning 26\, Lower Austria\, 3386\, Österreich
END:VEVENT
BEGIN:VEVENT
DTSTART;TZID=Europe/Berlin:20201030T134500
DTEND;TZID=Europe/Berlin:20201030T175000
DTSTAMP:20260422T061251
CREATED:20201029T081210Z
LAST-MODIFIED:20201029T081417Z
UID:1876-1604065500-1604080200@duftbox.at
SUMMARY:Duftbox geöffnet!
DESCRIPTION:Hier gibt es die Möglichkeit\, unsere Produkte zu riechen\, kennenlernen und zu kaufen.
URL:https://duftbox.at/veranstaltung/duftbox-geoeffnet-49/
LOCATION:DUFTBOX\, DUFTBOX\, 3386 Korning 26\, Lower Austria\, 3386\, Österreich
END:VEVENT
END:VCALENDAR