BEGIN:VCALENDAR
VERSION:2.0
PRODID:-//Duftbox - ECPv6.10.0//NONSGML v1.0//EN
CALSCALE:GREGORIAN
METHOD:PUBLISH
X-ORIGINAL-URL:https://duftbox.at
X-WR-CALDESC:Veranstaltungen für Duftbox
REFRESH-INTERVAL;VALUE=DURATION:PT1H
X-Robots-Tag:noindex
X-PUBLISHED-TTL:PT1H
BEGIN:VTIMEZONE
TZID:Europe/Berlin
BEGIN:DAYLIGHT
TZOFFSETFROM:+0100
TZOFFSETTO:+0200
TZNAME:CEST
DTSTART:20200329T010000
END:DAYLIGHT
BEGIN:STANDARD
TZOFFSETFROM:+0200
TZOFFSETTO:+0100
TZNAME:CET
DTSTART:20201025T010000
END:STANDARD
END:VTIMEZONE
BEGIN:VEVENT
DTSTART;TZID=Europe/Berlin:20201106T134500
DTEND;TZID=Europe/Berlin:20201106T175000
DTSTAMP:20260422T074954
CREATED:20201029T081721Z
LAST-MODIFIED:20201029T081721Z
UID:1880-1604670300-1604685000@duftbox.at
SUMMARY:Duftbox geöffnet!
DESCRIPTION:Hier gibt es die Möglichkeit\, unsere Produkte zu riechen\, kennenlernen und zu kaufen.
URL:https://duftbox.at/veranstaltung/duftbox-geoeffnet-51/
LOCATION:DUFTBOX\, DUFTBOX\, 3386 Korning 26\, Lower Austria\, 3386\, Österreich
END:VEVENT
BEGIN:VEVENT
DTSTART;TZID=Europe/Berlin:20201113T134500
DTEND;TZID=Europe/Berlin:20201113T175000
DTSTAMP:20260422T074954
CREATED:20201029T081334Z
LAST-MODIFIED:20201029T081750Z
UID:1878-1605275100-1605289800@duftbox.at
SUMMARY:Duftbox geöffnet!
DESCRIPTION:Hier gibt es die Möglichkeit\, unsere Produkte zu riechen\, kennenlernen und zu kaufen.
URL:https://duftbox.at/veranstaltung/duftbox-geoeffnet-50/
LOCATION:DUFTBOX\, DUFTBOX\, 3386 Korning 26\, Lower Austria\, 3386\, Österreich
END:VEVENT
BEGIN:VEVENT
DTSTART;TZID=Europe/Berlin:20201120T134500
DTEND;TZID=Europe/Berlin:20201120T175000
DTSTAMP:20260422T074954
CREATED:20201029T081830Z
LAST-MODIFIED:20201029T081830Z
UID:1882-1605879900-1605894600@duftbox.at
SUMMARY:Duftbox geöffnet!
DESCRIPTION:Hier gibt es die Möglichkeit\, unsere Produkte zu riechen\, kennenlernen und zu kaufen.
URL:https://duftbox.at/veranstaltung/duftbox-geoeffnet-52/
LOCATION:DUFTBOX\, DUFTBOX\, 3386 Korning 26\, Lower Austria\, 3386\, Österreich
END:VEVENT
BEGIN:VEVENT
DTSTART;TZID=Europe/Berlin:20201127T134500
DTEND;TZID=Europe/Berlin:20201127T175000
DTSTAMP:20260422T074954
CREATED:20201029T081858Z
LAST-MODIFIED:20201029T081858Z
UID:1884-1606484700-1606499400@duftbox.at
SUMMARY:Duftbox geöffnet!
DESCRIPTION:Hier gibt es die Möglichkeit\, unsere Produkte zu riechen\, kennenlernen und zu kaufen.
URL:https://duftbox.at/veranstaltung/duftbox-geoeffnet-53/
LOCATION:DUFTBOX\, DUFTBOX\, 3386 Korning 26\, Lower Austria\, 3386\, Österreich
END:VEVENT
END:VCALENDAR